BEGIN:VCALENDAR
VERSION:2.0
PRODID:-//hacksw/handcal//NONSGML v1.0//EN
BEGIN:VEVENT
SUMMARY:Meeting de Printemps -Be Mi Ca- (La Seyne)
UID:9e66d495-7be2-44cf-a872-ba34990a1f2b
DTSTART:20260406T120000Z
DTEND:20260406T160000Z
LOCATION:Localisation  83500 LA SEYNE SUR MER
CATEGORIES:Sportif
STATUS:
URL;VALUE=URI:https://www.usam-toulon-athle.com/evenements/2026/04/06/meeting-de-printemps-be-mi-ca-la-seyne-2438732
END:VEVENT
END:VCALENDAR
